Workbook

Sheet ORÇAMENTO ALTERADO (2)
B1: Ministério da Educação
B5: ORÇAMENTO ATUALIZADO PARA A CONCLUSÃO DA OBRA
B6: RECURSOS FNDE
B7: Obra: Proinfância - Tipo 2
B8: Mutuário: PREFEITURA MUNICIPAL DE ERVAL SECO
B9: Agente Promotor: PREFEITURA MUNICIPAL DE ERVAL SECO
B10: Contratada:
B11: Localização: AVENIDA EMÍLIO FALCÃO ESQ. RUA "A" - ERVAL SECO - RS
B12: VI: R$ 1.152.497,80
B13: CONTRATO Nº
B14: Preço base: Sinapi 04/2019 desonerado | F14: BDI : | I14: 0.277
B15: ITEM | C15: CÓDIGO | D15: FONTE | E15: DESCRIÇÃO DOS SERVIÇOS | F15: UNID. | G15: QUANT. | H15: PR. UNIT.(R$) SEM BDI | I15: PR. UNIT.(R$) COM BDI | J15: VALOR (R$)
B18: 1 | E18: SERVIÇOS PRELIMINARES | J18: =J21 -> 7462.0218
B19: 1.1 | C19: 74209/1 | D19: SINAPI | E19: Placa da obra - padrão Governo Federal | F19: m² | G19: 10 | H19: 280.68 | I19: =H19*(1+$I$14) -> 358.42836 | J19: =G19*I19 -> 3584.2836 | Z19: 311.87 | AB19: =Z19*0.9 -> 280.683 | AD19: 280.68
B20: 1.2 | C20: 74220/1 | D20: SINAPI | E20: Tapume de chapa de madeira compensada, 6mm (35x2,00m, frente do terreno) | F20: m² | G20: 70 | H20: 43.38 | I20: =H20*(1+$I$14) -> 55.39626 | J20: =G20*I20 -> 3877.7382 | Z20: 48.2 | AB20: =Z20*0.9 -> 43.38 | AD20: 43.38
H21: Subtotal | J21: =SUM(J19:J20) -> 7462.0218 | Z21: Subtotal | AB21: Subtotal | AD21: Subtotal
B23: 2 | E23: MOVIMENTO DE TERRAS PARA FUNDAÇÕES | J23: =J32 -> 1257.8396
B24: 2.1 | E24: MURETA
B25: 2.1.1 | C25: 93358 | D25: SINAPI | E25: Escavação manual de valas em qualquer terreno exceto rocha até h=1,50 m | F25: m³ | G25: 7.72 | H25: 55.89 | I25: =H25*(1+$I$14) -> 71.37153 | J25: =G25*I25 -> 550.98821 | Z25: 62.1 | AB25: =Z25*0.9 -> 55.89 | AD25: 55.89
B26: 2.1.2 | C26: 94097 | D26: SINAPI | E26: Regularização e compactação do fundo de valas | F26: m² | G26: 13.86 | H26: 4.05 | I26: =H26*(1+$I$14) -> 5.17185 | J26: =G26*I26 -> 71.681841 | Z26: 4.5 | AB26: =Z26*0.9 -> 4.05 | AD26: 4.05
B27: 2.1.3 | C27: 96995 | D27: SINAPI | E27: Reaterro apiloado de vala com material da obra | F27: m³ | G27: 4.6 | H27: 21.53 | I27: =H27*(1+$I$14) -> 27.49381 | J27: =G27*I27 -> 126.47153 | Z27: 23.92 | AB27: =Z27*0.9 -> 21.528 | AD27: 21.53
B28: 2.2 | E28: CASTELO D'ÁGUA
B29: 2.2.1 | C29: 93358 | D29: SINAPI | E29: Escavação manual de valas em qualquer terreno exceto rocha até h=1,50 m | F29: m³ | G29: 5.78 | H29: 55.89 | I29: =H29*(1+$I$14) -> 71.37153 | J29: =G29*I29 -> 412.52744 | Z29: 62.1 | AB29: =Z29*0.9 -> 55.89 | AD29: 55.89
B30: 2.2.2 | C30: 94097 | D30: SINAPI | E30: Regularização e compactação do fundo de valas | F30: m² | G30: 12.96 | H30: 4.05 | I30: =H30*(1+$I$14) -> 5.17185 | J30: =G30*I30 -> 67.027176 | Z30: 4.5 | AB30: =Z30*0.9 -> 4.05 | AD30: 4.05
B31: 2.2.3 | C31: 96995 | D31: SINAPI | E31: Reaterro apiloado de vala com material da obra | F31: m³ | G31: 1.06 | H31: 21.53 | I31: =H31*(1+$I$14) -> 27.49381 | J31: =G31*I31 -> 29.143439 | Z31: 23.92 | AB31: =Z31*0.9 -> 21.528 | AD31: 21.53
H32: Subtotal | J32: =J25+J26+J27+J29+J30+J31 -> 1257.8396 | Z32: Subtotal | AB32: Subtotal | AD32: Subtotal
B34: 3 | E34: FUNDAÇÕES | J34: =J54 -> 16006.634
B35: 3.1 | E35: FUNDAÇÃO DO CASTELO D'ÁGUA | G35: 0
B36: 3.1.1 | C36: 90881 | D36: SINAPI | E36: Estaca a trado (broca) d=25 cm com concreto fck=15 Mpa (sem armação) - 7 m | F36: m | G36: 56 | H36: 45.65 | I36: =H36*(1+$I$14) -> 58.29505 | J36: =G36*I36 -> 3264.5228 | Z36: 50.72 | AB36: =Z36*0.9 -> 45.648 | AD36: 45.65
B37: 3.1.2 | C37: 95601 | D37: SINAPI | E37: Corte e reparo em cabeça de estaca | F37: un | G37: 12 | H37: 16.87 | I37: =H37*(1+$I$14) -> 21.54299 | J37: =G37*I37 -> 258.51588 | Z37: 18.74 | AB37: =Z37*0.9 -> 16.866 | AD37: 16.87
B38: 3.1.3 | C38: 95240 | D38: SINAPI | E38: Lastro de concreto magro, e=3,0 cm-reparo mecânico | F38: m² | G38: 12.96 | H38: 11.3 | I38: =H38*(1+$I$14) -> 14.4301 | J38: =G38*I38 -> 187.0141 | Z38: 12.55 | AB38: =Z38*0.9 -> 11.295 | AD38: 11.3
B39: 3.1.4 | C39: 6 | D39: COMP | E39: Forma de madeira comum para Fundções - reaproveitamento 10X | F39: m² | G39: 7.2 | H39: 25.06 | I39: =H39*(1+$I$14) -> 32.00162 | J39: =G39*I39 -> 230.41166 | Z39: 27.84 | AB39: =Z39*0.9 -> 25.056 | AD39: 25.06
B40: 3.1.5 | C40: 73990/1 | D40: SINAPI | E40: Armação aço CA-50, para 1,0 m³ de concreto | F40: un | G40: 6.48 | H40: 467.97 | I40: =H40*(1+$I$14) -> 597.59769 | J40: =G40*I40 -> 3872.433 | Z40: 519.97 | AB40: =Z40*0.9 -> 467.973 | AD40: 467.97
B41: 3.1.6 | C41: 92720 | D41: SINAPI | E41: Concreto fck=25MPa, incluindo preparo, lançamento e adensamento. | F41: m³ | G41: 4.71 | H41: 362.58 | I41: =H41*(1+$I$14) -> 463.01466 | J41: =G41*I41 -> 2180.799 | Z41: 402.87 | AB41: =Z41*0.9 -> 362.583 | AD41: 362.58
B42: 3.2 | E42: MURETA - BLOCOS | G42: 0
B43: 3.2.1 | C43: 90881 | D43: SINAPI | E43: Estaca a trado (broca) d=25 cm com concreto fck=15 Mpa (sem armação) - 7 m | F43: m | G43: 38 | H43: 45.65 | I43: =H43*(1+$I$14) -> 58.29505 | J43: =G43*I43 -> 2215.2119 | Z43: 50.72 | AB43: =Z43*0.9 -> 45.648 | AD43: 45.65
B44: 3.2.2 | C44: 95240 | D44: SINAPI | E44: Lastro de concreto magro, e=3,0 cm-preparo mecânico | F44: m² | G44: 5.37 | H44: 11.3 | I44: =H44*(1+$I$14) -> 14.4301 | J44: =G44*I44 -> 77.489637 | Z44: 12.55 | AB44: =Z44*0.9 -> 11.295 | AD44: 11.3
B45: 3.2.3 | C45: 6 | D45: COMP | E45: Forma de madeira comum para Fundações - reaproveitamento 10X | F45: m² | G45: 14.51 | H45: 25.06 | I45: =H45*(1+$I$14) -> 32.00162 | J45: =G45*I45 -> 464.34351 | Z45: 27.84 | AB45: =Z45*0.9 -> 25.056 | AD45: 25.06
B46: 3.2.4 | C46: 7 | D46: COMP | E46: Armação aço CA-50, Diam. 6,3 (1/4) á 12,5mm(1/2) -Fornecimento/corte perda de 10%) / dobra / colocação. | F46: kg | G46: 25.27 | H46: 7.79 | I46: =H46*(1+$I$14) -> 9.94783 | J46: =G46*I46 -> 251.38166 | Z46: 8.66 | AB46: =Z46*0.9 -> 7.794 | AD46: 7.79
B47: 3.2.5 | C47: 8 | D47: COMP | E47: Armação de aço CA-60 Diam. 3,4 a 6,0mm-Fornecimento/corte perda de 10%) / dobra / colocação. | F47: kg | G47: 26.27 | H47: 6.98 | I47: =H47*(1+$I$14) -> 8.91346 | J47: =G47*I47 -> 234.15659 | Z47: 7.76 | AB47: =Z47*0.9 -> 6.984 | AD47: 6.98
...

Sheet Cronograma padrão tipo 2
A1: Ministério da Educação
A4: Obra: Projeto Padrão FNDE - Tipo 2
A5: Município: | B5: Erval seco / RS
A6: Endereço: | B6: Avenida Emílio Falcão
A8: Planejamento CRONOGRAMA
A10: ITEM | B10: DESCRIÇÃO DOS SERVIÇOS | C10: VALOR (R$) | D10: % ITEM | E10: 1 | F10: 2 | G10: 3 | H10: 4 | I10: 5 | J10: 6 | K10: 7 | L10: 8
A12: 1 | B12: SERVIÇOS PRELIMINARES | C12: ='ORÇAMENTO ALTERADO (2)'!J18 -> 7462.0218 | D12: =(C12/$C$61) -> 0.0064746517 | E12: 1
E13: =E12*C12 -> 7462.0218
A14: 2 | B14: MOVIMENTO DE TERRAS PARA FUNDAÇÕES | C14: ='ORÇAMENTO ALTERADO (2)'!J23 -> 1257.8396 | D14: =(C14/$C$61) -> 0.0010914031 | E14: 0.8 | F14: 0.2
E15: =E14*C14 -> 1006.2717 | F15: =F14*C14 -> 251.56793
A16: 3 | B16: FUNDAÇÕES | C16: ='ORÇAMENTO ALTERADO (2)'!J34 -> 16006.634 | D16: =(C16/$C$61) -> 0.013888646 | E16: 0.15 | F16: 0.85
E17: =E16*C16 -> 2400.9951 | F17: =F16*C16 -> 13605.639
A18: 4 | B18: SUPERESTRUTURA | C18: ='ORÇAMENTO ALTERADO (2)'!J56 -> 4886.7426 | D18: =(C18/$C$61) -> 0.0042401319 | E18: 0.4 | F18: 0.6
E19: =E18*$C$18 -> 1954.6971 | F19: =F18*$C$18 -> 2932.0456
A20: 5 | B20: SISTEMA DE VEDAÇÃO VERTICAL INTERNO E EXTERNO (PAREDES) | C20: ='ORÇAMENTO ALTERADO (2)'!J69 -> 24647.25 | D20: =(C20/$C$61) -> 0.021385941 | E20: 0.25 | F20: 0.25 | G20: 0.25 | H20: 0.25
E21: =E20*$C$20 -> 6161.8126 | F21: =F20*$C$20 -> 6161.8126 | G21: =G20*$C$20 -> 6161.8126 | H21: =H20*$C20 -> 6161.8126
A22: 6 | B22: ESQUADRIAS | C22: ='ORÇAMENTO ALTERADO (2)'!J81 -> 171449.78 | D22: =(C22/$C$61) -> 0.14876365 | H22: 0.2 | I22: 0.5 | J22: 0.3
H23: =H22*$C22 -> 34289.956 | I23: =I22*$C22 -> 85724.89 | J23: =J22*$C22 -> 51434.934
A24: 7 | B24: SISTEMAS DE COBERTURA | C24: ='ORÇAMENTO ALTERADO (2)'!J125 -> 210094.73 | D24: =(C24/$C$61) -> 0.18229512 | F24: 0.15 | G24: 0.65 | H24: 0.2
F25: =F24*C24 -> 31514.209 | G25: =G24*C24 -> 136561.57 | H25: =H24*C24 -> 42018.945
A26: 8 | B26: IMPERMEABILIZAÇÃO | C26: =#REF! -> #REF! | D26: =(C26/$C$61) -> #REF! | G26: 1
D27: =(C27/$C$61) -> 0 | G27: =G26*C26 -> #REF!
A28: 8 | B28: REVESTIMENTOS INTERNOS E EXTERNOS | C28: ='ORÇAMENTO ALTERADO (2)'!J134 -> 190491.47 | D28: =(C28/$C$61) -> 0.16528575 | E28: 0.1 | F28: 0.2 | G28: 0.2 | H28: 0.25 | I28: 0.25
E29: =E28*$C$28 -> 19049.147 | F29: =F28*$C$28 -> 38098.293 | G29: =G28*$C$28 -> 38098.293 | H29: =H28*$C$28 -> 47622.867 | I29: =I28*C28 -> 47622.867 | J29: =J28*C28 -> 0
A30: 9 | B30: SISTEMAS DE PISOS INTERNOS E EXTERNOS (PAVIMENTAÇÃO) | C30: ='ORÇAMENTO ALTERADO (2)'!J149 -> 115392.71 | D30: =(C30/$C$61) -> 0.10012402 | H30: 0.2 | I30: 0.15 | J30: 0.5 | K30: 0.15
G31: =G30*C30 -> 0 | H31: =H30*C30 -> 23078.542 | I31: =I30*C30 -> 17308.906 | J31: =J30*C30 -> 57696.355 | K31: =K30*C30 -> 17308.906 | L31: =L30*C30 -> 0
A32: 10 | B32: PINTURA | C32: ='ORÇAMENTO ALTERADO (2)'!J174 -> 80861.457 | D32: =(C32/$C$61) -> 0.070161919 | J32: 0.5 | K32: 0.4 | L32: 0.1
J33: =J32*C32 -> 40430.729 | K33: =K32*C32 -> 32344.583 | L33: =L32*C32 -> 8086.1457
A34: 11 | B34: INSTALAÇÃO HIDRÁULICA | C34: ='ORÇAMENTO ALTERADO (2)'!J183 -> 26261.793 | D34: =(C34/$C$61) -> 0.022786848 | F34: 0.05 | G34: 0.05 | H34: 0.2 | I34: 0.3 | J34: 0.3 | K34: 0.1
F35: =F34*C34 -> 1313.0896 | G35: =G34*C34 -> 1313.0896 | H35: =H34*C34 -> 5252.3585 | I35: =I34*C34 -> 7878.5378 | J35: =J34*C34 -> 7878.5378 | K35: =K34*C34 -> 2626.1793
A36: 12 | B36: DRENAGEM DE ÁGUAS PLUVIAIS | C36: ='ORÇAMENTO ALTERADO (2)'!J243 -> 7834.4394 | D36: =(C36/$C$61) -> 0.0067977912 | I36: 0.2 | J36: 0.4 | K36: 0.4
I37: =I36*C36 -> 1566.8879 | J37: =J36*C36 -> 3133.7758 | K37: =K36*C36 -> 3133.7758
A38: 13 | B38: INSTALAÇÃO SANITÁRIA | C38: ='ORÇAMENTO ALTERADO (2)'!J254 -> 22021.891 | D38: =(C38/$C$61) -> 0.019107968 | G38: 0.1 | H38: 0.1 | I38: 0.25 | J38: 0.35 | K38: 0.2
G39: =G38*C38 -> 2202.1891 | H39: =H38*C38 -> 2202.1891 | I39: =I38*C38 -> 5505.4727 | J39: =J38*C38 -> 7707.6617 | K39: =K38*C38 -> 4404.3781
A40: 14 | B40: LOUÇAS E METAIS | C40: ='ORÇAMENTO ALTERADO (2)'!J267 -> 40589.285 | D40: =(C40/$C$61) -> 0.035218536 | J40: 0.2 | K40: 0.8
J41: =J40*C40 -> 8117.8571 | K41: =K40*C40 -> 32471.428
A42: 15 | B42: INSTALAÇÃO DE GÁS COMBUSTÍVEL | C42: ='ORÇAMENTO ALTERADO (2)'!J301 -> 3076.7103 | D42: =(C42/$C$61) -> 0.0026696019 | H42: 0.3 | I42: 0.3 | K42: 0.4
H43: =H42*C42 -> 923.0131 | I43: =I42*C42 -> 923.0131 | K43: =K42*C42 -> 1230.6841
A44: 16 | B44: SISTEMA DE PROTEÇÃO CONTRA INCÊNDIO | C44: ='ORÇAMENTO ALTERADO (2)'!J325 -> 19865.588 | D44: =(C44/$C$61) -> 0.017236985 | H44: 0.1 | I44: 0.1 | J44: 0.5 | K44: 0.3
H45: =H44*C44 -> 1986.5588 | I45: =I44*C44 -> 1986.5588 | J45: =J44*C44 -> 9932.7938 | K45: =K44*C44 -> 5959.6763
...
